BEGIN:VCALENDAR
VERSION:2.0
PRODID:-//Squarespace Inc/Squarespace 6//v6//EN
BEGIN:VEVENT
UID:5f736fd422613359fee85e93@squarespace.com
DTSTAMP:20200929T173505Z
DTSTART:20201002T011500Z
DTEND:20201002T024500Z
SUMMARY:International Relations Discussion Group Week 5: U.S. - China Relat
 ions
END:VEVENT
END:VCALENDAR
