BEGIN:VCALENDAR
VERSION:2.0
PRODID:-//Squarespace Inc/Squarespace 6//v6//EN
BEGIN:VEVENT
UID:5f86159e488cc33961f17ed9@squarespace.com
DTSTAMP:20201013T210416Z
DTSTART:20201016T011500Z
DTEND:20201016T024500Z
SUMMARY:International Relations Discussion Group\, Week 7
END:VEVENT
END:VCALENDAR
