BEGIN:VCALENDAR
VERSION:2.0
PRODID:-//Squarespace Inc/Squarespace 6//v6//EN
BEGIN:VEVENT
UID:5f8620ebd1f14e2e6ac25e57@squarespace.com
DTSTAMP:20201013T215247Z
DTSTART:20201019T170000Z
DTEND:20201019T183000Z
SUMMARY:Policy as a Profession Panel
END:VEVENT
END:VCALENDAR
