BEGIN:VCALENDAR
VERSION:2.0
PRODID:-//Squarespace Inc/Squarespace 6//v6//EN
BEGIN:VEVENT
UID:5f92f50b72310e7e19f8576a@squarespace.com
DTSTAMP:20201023T152247Z
DTSTART:20201023T011500Z
DTEND:20201023T024500Z
SUMMARY:International Relations Discussion Group\, Week 8
END:VEVENT
END:VCALENDAR
