BEGIN:VCALENDAR
VERSION:2.0
PRODID:-//Squarespace Inc/Squarespace 6//v6//EN
BEGIN:VEVENT
UID:5f92f4724419f77fe4a5972c@squarespace.com
DTSTAMP:20201023T152029Z
DTSTART:20201028T170000Z
DTEND:20201028T180000Z
SUMMARY:A Conversation with Elena Marks\, J.D.\, M.P.H.
END:VEVENT
END:VCALENDAR
