BEGIN:VCALENDAR
VERSION:2.0
PRODID:-//Squarespace Inc/Squarespace 6//v6//EN
BEGIN:VEVENT
UID:5f98db40f4ef54001a087cbf@squarespace.com
DTSTAMP:20201028T024600Z
DTSTART:20201030T011500Z
DTEND:20201030T024500Z
SUMMARY:International Relations Discussion Group\, Week 9
END:VEVENT
END:VCALENDAR
