BEGIN:VCALENDAR
VERSION:2.0
PRODID:-//Squarespace Inc/Squarespace 6//v6//EN
BEGIN:VEVENT
UID:5f7ba5a160b8b025f167a485@squarespace.com
DTSTAMP:20201005T230206Z
DTSTART:20201009T011500Z
DTEND:20201009T024500Z
SUMMARY:International Relations Discussion Group Week 6
END:VEVENT
END:VCALENDAR
