BEGIN:VCALENDAR
VERSION:2.0
PRODID:-//Squarespace Inc/Squarespace 6//v6//EN
BEGIN:VEVENT
UID:5fac52259071527666939ce9@squarespace.com
DTSTAMP:20201111T210704Z
DTSTART:20201113T021500Z
DTEND:20201113T034500Z
SUMMARY:International Relations Group\, Week 11
GEO:29.718408;-95.398077
LOCATION:Rice University\, 6100 Main Street\, Houston\, TX\, 77005\, United 
 States
END:VEVENT
END:VCALENDAR
