BEGIN:VCALENDAR
VERSION:2.0
PRODID:-//Squarespace Inc/Squarespace 6//v6//EN
BEGIN:VEVENT
UID:5fac529864ed982990aeda2d@squarespace.com
DTSTAMP:20201120T155236Z
DTSTART:20201118T220000Z
DTEND:20201119T000000Z
SUMMARY:Debate between Rice Democrats and Republicans
GEO:29.718408;-95.398077
LOCATION:Rice University\, 6100 Main Street\, Houston\, TX\, 77005\, United 
 States
END:VEVENT
END:VCALENDAR
