BEGIN:VCALENDAR
VERSION:2.0
PRODID:-//Squarespace Inc/Squarespace 6//v6//EN
BEGIN:VEVENT
UID:5fb7e8daa0cc8e3e69d8ac28@squarespace.com
DTSTAMP:20201120T160441Z
DTSTART:20201120T021500Z
DTEND:20201120T033000Z
SUMMARY:International Relations Group\, Week 12
GEO:29.718408;-95.398077
LOCATION:Rice University\, 6100 Main Street\, Houston\, TX\, 77005\, United 
 States
END:VEVENT
END:VCALENDAR
