BEGIN:VCALENDAR
VERSION:2.0
PRODID:-//Squarespace Inc/Squarespace 6//v6//EN
BEGIN:VEVENT
UID:5fb7e71c2528a569da8528e0@squarespace.com
DTSTAMP:20201120T155801Z
DTSTART:20201117T010000Z
DTEND:20201117T020000Z
SUMMARY:BISF x RWRC: Discussion on Justice Amy Coney Barrett
GEO:29.718408;-95.398077
LOCATION:Rice University\, 6100 Main Street\, Houston\, TX\, 77005\, United 
 States
END:VEVENT
END:VCALENDAR
