BEGIN:VCALENDAR
VERSION:2.0
PRODID:-//Squarespace Inc/Squarespace 6//v6//EN
BEGIN:VEVENT
UID:5fa443a992162b3d346e6961@squarespace.com
DTSTAMP:20201105T182719Z
DTSTART:20201106T021500Z
DTEND:20201106T034500Z
SUMMARY:International Relations Group\, Week 10
END:VEVENT
END:VCALENDAR
