BEGIN:VCALENDAR
VERSION:2.0
PRODID:-//Squarespace Inc/Squarespace 6//v6//EN
BEGIN:VEVENT
UID:5fecd2d0ac5ecf06b6b80f7d@squarespace.com
DTSTAMP:20201230T192046Z
DTSTART:20201223T020000Z
DTEND:20201223T030000Z
SUMMARY:Baker Institute Summer in DC 2021 Policy Research Internship Progra
 m Info Session
GEO:29.718408;-95.398077
LOCATION:Rice University\, 6100 Main Street\, Houston\, TX\, 77005\, United 
 States
END:VEVENT
END:VCALENDAR
