BEGIN:VCALENDAR
VERSION:2.0
PRODID:-//Squarespace Inc/Squarespace 6//v6//EN
BEGIN:VEVENT
UID:5f56ba8bd4f2f0293687b82a@squarespace.com
DTSTAMP:20200907T225758Z
DTSTART:20200911T011500Z
DTEND:20200911T024500Z
SUMMARY:International Relations Discussion Group\, Week 2
END:VEVENT
END:VCALENDAR
