BEGIN:VCALENDAR
VERSION:2.0
PRODID:-//Squarespace Inc/Squarespace 6//v6//EN
BEGIN:VEVENT
UID:5f5ef7a1cc4aa14cfea33f68@squarespace.com
DTSTAMP:20200914T045632Z
DTSTART:20200918T011500Z
DTEND:20200918T024500Z
SUMMARY:International Relations Discussion Group\, Week 3
END:VEVENT
END:VCALENDAR
