BEGIN:VCALENDAR
VERSION:2.0
PRODID:-//Squarespace Inc/Squarespace 6//v6//EN
BEGIN:VEVENT
UID:5f6a9bfedb675467a681e96d@squarespace.com
DTSTAMP:20200923T005724Z
DTSTART:20200925T011500Z
DTEND:20200925T024500Z
SUMMARY:International Relations Discussion Group\, Week 4
END:VEVENT
END:VCALENDAR
