BEGIN:VCALENDAR
VERSION:2.0
PRODID:-//Squarespace Inc/Squarespace 6//v6//EN
BEGIN:VEVENT
UID:5f4eeeac021aa5454ef87867@squarespace.com
DTSTAMP:20200902T010212Z
DTSTART:20200909T003000Z
DTEND:20200909T013000Z
SUMMARY:Trivia Night
END:VEVENT
END:VCALENDAR
