BEGIN:VCALENDAR
VERSION:2.0
PRODID:-//Squarespace Inc/Squarespace 6//v6//EN
BEGIN:VEVENT
UID:6064cdd9800634139923e14b@squarespace.com
DTSTAMP:20210331T193102Z
DTSTART:20210219T020000Z
DTEND:20210219T033000Z
SUMMARY:International Relations Discussion Group
GEO:29.718408;-95.398077
LOCATION:Rice University\, 6100 Main Street\, Houston\, TX\, 77005\, United 
 States
END:VEVENT
END:VCALENDAR
