BEGIN:VCALENDAR
VERSION:2.0
PRODID:-//Squarespace Inc/Squarespace 6//v6//EN
BEGIN:VEVENT
UID:60774a3ad4e1c77f591d7f91@squarespace.com
DTSTAMP:20210414T200447Z
DTSTART:20210306T055800Z
DTEND:20210306T055900Z
SUMMARY:Policy Proposal Submission Deadline
GEO:29.718408;-95.398077
LOCATION:Rice University\, 6100 Main Street\, Houston\, TX\, 77005\, United 
 States
END:VEVENT
END:VCALENDAR
