BEGIN:VCALENDAR
VERSION:2.0
PRODID:-//Squarespace Inc/Squarespace 6//v6//EN
BEGIN:VEVENT
UID:6064d1abd9639c6b231b48b1@squarespace.com
DTSTAMP:20210331T195028Z
DTSTART:20210205T020000Z
DTEND:20210205T033000Z
SUMMARY:International Relations Discussion Group
GEO:29.718408;-95.398077
LOCATION:Rice University\, 6100 Main Street\, Houston\, TX\, 77005\, United 
 States
END:VEVENT
END:VCALENDAR
