BEGIN:VCALENDAR
VERSION:2.0
PRODID:-//Squarespace Inc/Squarespace 6//v6//EN
BEGIN:VEVENT
UID:6068c26c0bebed1725ffcabd@squarespace.com
DTSTAMP:20210403T193203Z
DTSTART:20210210T010000Z
DTEND:20210210T020000Z
SUMMARY:Policy Competition Info Session
GEO:29.718408;-95.398077
LOCATION:Rice University\, 6100 Main Street\, Houston\, TX\, 77005\, United 
 States
END:VEVENT
END:VCALENDAR
