BEGIN:VCALENDAR
VERSION:2.0
PRODID:-//Squarespace Inc/Squarespace 6//v6//EN
BEGIN:VEVENT
UID:60774bb6dee4324569c11f2a@squarespace.com
DTSTAMP:20210414T200928Z
DTSTART:20210311T010000Z
DTEND:20210311T020000Z
SUMMARY:A Conversation On Texas's Energy Grid
GEO:29.718408;-95.398077
LOCATION:Rice University\, 6100 Main Street\, Houston\, TX\, 77005\, United 
 States
END:VEVENT
END:VCALENDAR
