BEGIN:VCALENDAR
VERSION:2.0
PRODID:-//Squarespace Inc/Squarespace 6//v6//EN
BEGIN:VEVENT
UID:6064cd81b379475674f3cafb@squarespace.com
DTSTAMP:20210331T192936Z
DTSTART:20210305T020000Z
DTEND:20210305T033000Z
SUMMARY:International Relations Discussion Group
GEO:29.718408;-95.398077
LOCATION:Rice University\, 6100 Main Street\, Houston\, TX\, 77005\, United 
 States
END:VEVENT
END:VCALENDAR
