BEGIN:VCALENDAR
VERSION:2.0
PRODID:-//Squarespace Inc/Squarespace 6//v6//EN
BEGIN:VEVENT
UID:60774b2c8431ad47325df536@squarespace.com
DTSTAMP:20210414T200700Z
DTSTART:20210305T171000Z
DTEND:20210305T181000Z
SUMMARY:Summer Internship Panel
GEO:29.718408;-95.398077
LOCATION:Rice University\, 6100 Main Street\, Houston\, TX\, 77005\, United 
 States
END:VEVENT
END:VCALENDAR
