BEGIN:VCALENDAR
VERSION:2.0
PRODID:-//Squarespace Inc/Squarespace 6//v6//EN
BEGIN:VEVENT
UID:60774c4cf601927a86e3f8b8@squarespace.com
DTSTAMP:20210414T201206Z
DTSTART:20210407T045800Z
DTEND:20210407T045900Z
SUMMARY:Application Deadline for BISF President
GEO:29.718408;-95.398077
LOCATION:Rice University\, 6100 Main Street\, Houston\, TX\, 77005\, United 
 States
END:VEVENT
END:VCALENDAR
