BEGIN:VCALENDAR
VERSION:2.0
PRODID:-//Squarespace Inc/Squarespace 6//v6//EN
BEGIN:VEVENT
UID:60774d2a4c2ecc5c7ca2b078@squarespace.com
DTSTAMP:20210414T201550Z
DTSTART:20210409T010000Z
DTEND:20210409T023000Z
SUMMARY:International Relations Discussion Group
GEO:29.718408;-95.398077
LOCATION:Rice University\, 6100 Main Street\, Houston\, TX\, 77005\, United 
 States
END:VEVENT
END:VCALENDAR
